BEGIN:VCALENDAR
VERSION:2.0
PRODID:-//www.godsstorehouse.org//NONSGML kigkonsult.se iCalcreator 2.30.10
 //
CALSCALE:GREGORIAN
METHOD:PUBLISH
UID:35db7ad8-bc03-472c-93af-78ef072ef3af
X-WR-CALDESC:Join us Friday\, June 17th as we honor our Volunteers of the Y
 ear at the Danville Otterbots game! ⚾️
X-WR-RELCALID:440b8321df541f216faae52c0a73c48a
X-WR-TIMEZONE:America/New_York
BEGIN:VTIMEZONE
TZID:America/New_York
BEGIN:STANDARD
TZNAME:EST
DTSTART:20211107T020000
TZOFFSETFROM:-0400
TZOFFSETTO:-0500
RDATE:20221106T020000
RDATE:20231105T020000
END:STANDARD
BEGIN:DAYLIGHT
TZNAME:EDT
DTSTART:20220313T020000
TZOFFSETFROM:-0500
TZOFFSETTO:-0400
RDATE:20230312T020000
END:DAYLIGHT
END:VTIMEZONE
BEGIN:VEVENT
UID:0cda70e1-8dc0-4c6c-96e1-d92ef00b8cb4
DTSTAMP:20260421T153203Z
DESCRIPTION:Join us Friday\, June 17th as we honor our Volunteers of the Ye
 ar at the Danville Otterbots game! ⚾️
DTSTART;TZID=America/New_York:20220617T190000
DTEND;TZID=America/New_York:20220617T200000
LOCATION:
SUMMARY:Otterbots Volunteer Night
END:VEVENT
END:VCALENDAR
