BEGIN:VCALENDAR
VERSION:2.0
PRODID:-//www.godsstorehouse.org//NONSGML kigkonsult.se iCalcreator 2.30.10
 //
CALSCALE:GREGORIAN
METHOD:PUBLISH
UID:a62ba760-8407-4ed5-a7cf-daf7b0eebf0c
X-WR-CALDESC:We will reflect on 2022 and look forward to the exciting plans
  for 2023! Everyone is welcome! We will vote on Board Members\, the 2023 B
 udget\, and review accomplishments for 2022. We need your participation an
 d support. \n\nThe meeting will be in-person at God's Storehouse - 750 Mem
 orial Drive\n\nIf you have any questions\,\ncall us at (434) 793-3663
X-WR-RELCALID:c0c2b4d1b4ccf036bed2999b582d6885
X-WR-TIMEZONE:America/New_York
BEGIN:VTIMEZONE
TZID:America/New_York
BEGIN:STANDARD
TZNAME:EST
DTSTART:20221106T020000
TZOFFSETFROM:-0400
TZOFFSETTO:-0500
RDATE:20231105T020000
END:STANDARD
BEGIN:DAYLIGHT
TZNAME:EDT
DTSTART:20220313T020000
TZOFFSETFROM:-0500
TZOFFSETTO:-0400
RDATE:20230312T020000
RDATE:20240310T020000
END:DAYLIGHT
END:VTIMEZONE
BEGIN:VEVENT
UID:32f3831b-cbf5-4dbd-94fd-2d4bf6514dc6
DTSTAMP:20260420T180527Z
DESCRIPTION:We will reflect on 2022 and look forward to the exciting plans 
 for 2023! Everyone is welcome! We will vote on Board Members\, the 2023 Bu
 dget\, and review accomplishments for 2022. We need your participation and
  support. \n\nThe meeting will be in-person at God's Storehouse - 750 Memo
 rial Drive\n\nIf you have any questions\,\ncall us at (434) 793-3663
DTSTART;TZID=America/New_York:20230123T190000
DTEND;TZID=America/New_York:20230123T200000
LOCATION:
SUMMARY:Annual Meeting
END:VEVENT
END:VCALENDAR
