BEGIN:VCALENDAR
VERSION:2.0
PRODID:-//www.godsstorehouse.org//NONSGML kigkonsult.se iCalcreator 2.30.10
 //
CALSCALE:GREGORIAN
METHOD:PUBLISH
UID:3b3e444f-92f0-4040-b0e7-d8318bb7fd43
X-WR-CALDESC:It's that time of year again. Thanksgiving\, Black Friday\, Sm
 all Business Saturday\, Cyber Monday\, and now it's #GivingTuesday!\nEach 
 year\, our drivers travel over 13\,000 miles to recover food from our loca
 l partners. Our Partner Pick Up Program through Feeding America Southwest 
 Virginia allows us to provide fresh food to our customers including: meat\
 , fresh produce\, and bread. \n\nThis #GivingTuesday\, we are asking for d
 onations to cover this cost of fuel. We are asking each of our supporters 
 to donate $25. Your donation plays a crucial role in our mission to end hu
 nger at God’s Storehouse!
X-WR-RELCALID:c3e3f4c6f595b40977f98a92aa6233b9
X-WR-TIMEZONE:America/New_York
BEGIN:VTIMEZONE
TZID:America/New_York
BEGIN:STANDARD
TZNAME:EST
DTSTART:20221106T020000
TZOFFSETFROM:-0400
TZOFFSETTO:-0500
RDATE:20231105T020000
END:STANDARD
BEGIN:DAYLIGHT
TZNAME:EDT
DTSTART:20220313T020000
TZOFFSETFROM:-0500
TZOFFSETTO:-0400
RDATE:20230312T020000
RDATE:20240310T020000
END:DAYLIGHT
END:VTIMEZONE
BEGIN:VEVENT
UID:2a78c34a-694b-4763-a887-456ad8e381ae
DTSTAMP:20260420T143939Z
DESCRIPTION:It's that time of year again. Thanksgiving\, Black Friday\, Sma
 ll Business Saturday\, Cyber Monday\, and now it's #GivingTuesday!\nEach y
 ear\, our drivers travel over 13\,000 miles to recover food from our local
  partners. Our Partner Pick Up Program through Feeding America Southwest V
 irginia allows us to provide fresh food to our customers including: meat\,
  fresh produce\, and bread. \n\nThis #GivingTuesday\, we are asking for do
 nations to cover this cost of fuel. We are asking each of our supporters t
 o donate $25. Your donation plays a crucial role in our mission to end hun
 ger at God’s Storehouse!
DTSTART;TZID=America/New_York:20221129T000000
DTEND;TZID=America/New_York:20221129T235900
LOCATION:
SUMMARY:Giving Tuesday
END:VEVENT
END:VCALENDAR
