BEGIN:VCALENDAR
VERSION:2.0
PRODID:-//www.godsstorehouse.org//NONSGML kigkonsult.se iCalcreator 2.30.10
 //
CALSCALE:GREGORIAN
METHOD:PUBLISH
UID:ba5b0854-ffcb-4205-afcf-64aa1d2c1576
X-WR-CALDESC:Every 3rd Tuesday of the month\, God's Storehouse will partner
  with Chatham Rotary\, Kentuck Baptist\, and Ringgold Baptist to host a fo
 od pantry targeted toward residents in the Ringgold\, Sutherlin\, Keeling\
 , and Kentuck areas. \nThe next event is Tuesday\, November 15\, from 5:30
 -7:30pm.
X-WR-RELCALID:fd11ad3f3f2498bb859b857ec22c78cb
X-WR-TIMEZONE:America/New_York
BEGIN:VTIMEZONE
TZID:America/New_York
BEGIN:STANDARD
TZNAME:EST
DTSTART:20221106T020000
TZOFFSETFROM:-0400
TZOFFSETTO:-0500
RDATE:20231105T020000
END:STANDARD
BEGIN:DAYLIGHT
TZNAME:EDT
DTSTART:20220313T020000
TZOFFSETFROM:-0500
TZOFFSETTO:-0400
RDATE:20230312T020000
RDATE:20240310T020000
END:DAYLIGHT
END:VTIMEZONE
BEGIN:VEVENT
UID:926392cd-2b04-4375-83b5-98f665b696d6
DTSTAMP:20260420T144142Z
DESCRIPTION:Every 3rd Tuesday of the month\, God's Storehouse will partner 
 with Chatham Rotary\, Kentuck Baptist\, and Ringgold Baptist to host a foo
 d pantry targeted toward residents in the Ringgold\, Sutherlin\, Keeling\,
  and Kentuck areas. \nThe next event is Tuesday\, November 15\, from 5:30-
 7:30pm.
DTSTART;TZID=America/New_York:20221115T173000
DTEND;TZID=America/New_York:20221115T193000
LOCATION:
SUMMARY:Kentuck Food Pantry
END:VEVENT
END:VCALENDAR
