BEGIN:VCALENDAR
VERSION:2.0
PRODID:-//www.godsstorehouse.org//NONSGML kigkonsult.se iCalcreator 2.30.10
 //
CALSCALE:GREGORIAN
METHOD:PUBLISH
UID:b1b852d3-f1ef-49eb-82f2-6fc1f7e877cb
X-WR-CALDESC:Every 3rd Tuesday of the month\, God's Storehouse will partner
  with Chatham Rotary\, Kentuck Baptist\, and Ringgold Baptist to host a fo
 od pantry targeted toward residents in the Ringgold\, Sutherlin\, Keeling\
 , and Kentuck areas. \nThe next event is Tuesday\, October 18th from 5:30-
 7:30pm.
X-WR-RELCALID:13d46143d40e036b91e3e69051601d75
X-WR-TIMEZONE:America/New_York
BEGIN:VTIMEZONE
TZID:America/New_York
BEGIN:STANDARD
TZNAME:EST
DTSTART:20211107T020000
TZOFFSETFROM:-0400
TZOFFSETTO:-0500
RDATE:20221106T020000
RDATE:20231105T020000
END:STANDARD
BEGIN:DAYLIGHT
TZNAME:EDT
DTSTART:20220313T020000
TZOFFSETFROM:-0500
TZOFFSETTO:-0400
RDATE:20230312T020000
RDATE:20240310T020000
END:DAYLIGHT
END:VTIMEZONE
BEGIN:VEVENT
UID:b8a433e6-31ac-4b4a-bcf5-9cc95cb793bd
DTSTAMP:20260420T124230Z
DESCRIPTION:Every 3rd Tuesday of the month\, God's Storehouse will partner 
 with Chatham Rotary\, Kentuck Baptist\, and Ringgold Baptist to host a foo
 d pantry targeted toward residents in the Ringgold\, Sutherlin\, Keeling\,
  and Kentuck areas. \nThe next event is Tuesday\, October 18th from 5:30-7
 :30pm.
DTSTART;TZID=America/New_York:20221018T173000
DTEND;TZID=America/New_York:20221018T193000
LOCATION:
SUMMARY:Kentuck Food Pantry
END:VEVENT
END:VCALENDAR
