BEGIN:VCALENDAR
VERSION:2.0
PRODID:-//www.godsstorehouse.org//NONSGML kigkonsult.se iCalcreator 2.30.10
 //
CALSCALE:GREGORIAN
METHOD:PUBLISH
UID:3e9162fd-7aaf-49c8-a1a2-65f34cf7a9e7
X-WR-CALDESC:Join us this Saturday\, September 24th from 8 am to 11 am for 
 a work day at God's Storehouse Urban Farm! \nNo registration is needed\, j
 ust show up! We will be removing old plants and fencing and preparing plot
 s for plowing. If you've been thinking about volunteering with us this is 
 the perfect opportunity to come and help us out at the Urban Farm!
X-WR-RELCALID:c54620d9da20e4c57a69f07a61b6c909
X-WR-TIMEZONE:America/New_York
BEGIN:VTIMEZONE
TZID:America/New_York
BEGIN:STANDARD
TZNAME:EST
DTSTART:20211107T020000
TZOFFSETFROM:-0400
TZOFFSETTO:-0500
RDATE:20221106T020000
RDATE:20231105T020000
END:STANDARD
BEGIN:DAYLIGHT
TZNAME:EDT
DTSTART:20220313T020000
TZOFFSETFROM:-0500
TZOFFSETTO:-0400
RDATE:20230312T020000
RDATE:20240310T020000
END:DAYLIGHT
END:VTIMEZONE
BEGIN:VEVENT
UID:ad28508e-aa03-4bad-a337-d6b0151e2c4d
DTSTAMP:20260420T113139Z
DESCRIPTION:Join us this Saturday\, September 24th from 8 am to 11 am for a
  work day at God's Storehouse Urban Farm! \nNo registration is needed\, ju
 st show up! We will be removing old plants and fencing and preparing plots
  for plowing. If you've been thinking about volunteering with us this is t
 he perfect opportunity to come and help us out at the Urban Farm!
DTSTART;TZID=America/New_York:20220924T080000
DTEND;TZID=America/New_York:20220924T110000
LOCATION:
SUMMARY:Urban Farm Work Day
END:VEVENT
END:VCALENDAR
