BEGIN:VCALENDAR
VERSION:2.0
PRODID:-//www.godsstorehouse.org//NONSGML kigkonsult.se iCalcreator 2.30.10
 //
CALSCALE:GREGORIAN
METHOD:PUBLISH
UID:cc59fb4e-320f-40c4-ba9e-f9655a07dc18
X-WR-CALDESC:Every 3rd Tuesday of the month\, God's Storehouse will partner
  with Chatham Rotary\, Kentuck Baptist\, and Ringgold Baptist to host a fo
 od pantry targeted toward residents in the Ringgold\, Sutherlin\, Keeling\
 , and Kentuck areas.\n\n
X-WR-RELCALID:8f7b81d74248c4a8dc8244f21947a450
X-WR-TIMEZONE:America/New_York
BEGIN:VTIMEZONE
TZID:America/New_York
BEGIN:STANDARD
TZNAME:EST
DTSTART:20211107T020000
TZOFFSETFROM:-0400
TZOFFSETTO:-0500
RDATE:20221106T020000
RDATE:20231105T020000
END:STANDARD
BEGIN:DAYLIGHT
TZNAME:EDT
DTSTART:20220313T020000
TZOFFSETFROM:-0500
TZOFFSETTO:-0400
RDATE:20230312T020000
END:DAYLIGHT
END:VTIMEZONE
BEGIN:VEVENT
UID:ef82b92f-e990-400c-ae84-2f1df5456722
DTSTAMP:20260420T100907Z
DESCRIPTION:Every 3rd Tuesday of the month\, God's Storehouse will partner 
 with Chatham Rotary\, Kentuck Baptist\, and Ringgold Baptist to host a foo
 d pantry targeted toward residents in the Ringgold\, Sutherlin\, Keeling\,
  and Kentuck areas.\n\n
DTSTART;TZID=America/New_York:20220816T173000
DTEND;TZID=America/New_York:20220816T193000
LOCATION:
SUMMARY:Kentuck Food Pantry
END:VEVENT
END:VCALENDAR
