BEGIN:VCALENDAR
VERSION:2.0
PRODID:-//www.godsstorehouse.org//NONSGML kigkonsult.se iCalcreator 2.30.10
 //
CALSCALE:GREGORIAN
METHOD:PUBLISH
UID:df663a47-4c78-4a6e-b4b3-f4eb40020f64
X-WR-CALDESC:✨ Join us for Yoga on the Farm! ✨ \nEnjoy some fresh air and s
 unset views with a relaxing yoga session at our Urban Farm. ☀️
X-WR-RELCALID:ee1faa5a8ba22a81e295f5a4b866362b
X-WR-TIMEZONE:America/New_York
BEGIN:VTIMEZONE
TZID:America/New_York
BEGIN:STANDARD
TZNAME:EST
DTSTART:20211107T020000
TZOFFSETFROM:-0400
TZOFFSETTO:-0500
RDATE:20221106T020000
RDATE:20231105T020000
END:STANDARD
BEGIN:DAYLIGHT
TZNAME:EDT
DTSTART:20220313T020000
TZOFFSETFROM:-0500
TZOFFSETTO:-0400
RDATE:20230312T020000
END:DAYLIGHT
END:VTIMEZONE
BEGIN:VEVENT
UID:1efe15af-1660-4dd8-8e18-f88a45709e54
DTSTAMP:20260420T101659Z
DESCRIPTION:✨ Join us for Yoga on the Farm! ✨ \nEnjoy some fresh air and su
 nset views with a relaxing yoga session at our Urban Farm. ☀️
DTSTART;TZID=America/New_York:20220810T180000
DTEND;TZID=America/New_York:20220810T190000
LOCATION:
SUMMARY:Yoga at the Farm
END:VEVENT
END:VCALENDAR
