BEGIN:VCALENDAR
VERSION:2.0
PRODID:-//www.godsstorehouse.org//NONSGML kigkonsult.se iCalcreator 2.30.10
 //
CALSCALE:GREGORIAN
METHOD:PUBLISH
UID:4cd2027b-ecaf-45ca-9855-9f3f8c4f4655
X-WR-CALDESC:Join God's Storehouse and Commonwealth Document Management for
  our annual event to Shred Out Hunger. Shred a box of paper in exchange fo
 r a donation of 5 or more canned goods.*\n\n*Monetary donations also accep
 ted.
X-WR-RELCALID:d9c3c4504871edad003227825c44ce2e
X-WR-TIMEZONE:America/New_York
BEGIN:VTIMEZONE
TZID:America/New_York
BEGIN:STANDARD
TZNAME:EST
DTSTART:20201101T020000
TZOFFSETFROM:-0400
TZOFFSETTO:-0500
RDATE:20211107T020000
END:STANDARD
BEGIN:DAYLIGHT
TZNAME:EDT
DTSTART:20200308T020000
TZOFFSETFROM:-0500
TZOFFSETTO:-0400
RDATE:20210314T020000
RDATE:20220313T020000
END:DAYLIGHT
END:VTIMEZONE
BEGIN:VEVENT
UID:a2dd658c-08ba-44f5-859b-4cb962b8a2e9
DTSTAMP:20260421T220319Z
DESCRIPTION:Join God's Storehouse and Commonwealth Document Management for 
 our annual event to Shred Out Hunger. Shred a box of paper in exchange for
  a donation of 5 or more canned goods.*\n\n*Monetary donations also accept
 ed.
DTSTART;TZID=America/New_York:20201107T090000
DTEND;TZID=America/New_York:20201107T120000
LOCATION:750 Memorial Dr\, Danville\, Virginia 24541
SUMMARY:Shred Out Hunger 2020
END:VEVENT
END:VCALENDAR
